BEGIN:VCALENDAR
VERSION:2.0
PRODID:icalendar-ruby
CALSCALE:GREGORIAN
METHOD:PUBLISH
BEGIN:VTIMEZONE
TZID:Australia/Brisbane
BEGIN:STANDARD
DTSTART:19920301T020000
TZOFFSETFROM:+1100
TZOFFSETTO:+1000
TZNAME:AEST
END:STANDARD
END:VTIMEZONE
BEGIN:VEVENT
DTSTAMP:20260423T064039Z
UID:inspection_3009047
DTSTART;TZID=Australia/Brisbane:20260426T123000
DTEND;TZID=Australia/Brisbane:20260426T130000
CLASS:PUBLIC
CREATED:20260422T123348
DESCRIPTION: 
LAST-MODIFIED:20260422T123348
LOCATION:6 Coolwaters Esplanade\, KINKA BEACH QLD 4703\, Australia
SUMMARY:6 Coolwaters Esplanade\,  Inspection
URL;VALUE=URI:http://www.atrealestate.net.au/
END:VEVENT
END:VCALENDAR
